BEGIN:VCALENDAR
VERSION:2.0
PRODID:-//Stand Up Bern - ECPv6.15.20//NONSGML v1.0//EN
CALSCALE:GREGORIAN
METHOD:PUBLISH
X-WR-CALNAME:Stand Up Bern
X-ORIGINAL-URL:https://standupbern.ch
X-WR-CALDESC:Events for Stand Up Bern
REFRESH-INTERVAL;VALUE=DURATION:PT1H
X-Robots-Tag:noindex
X-PUBLISHED-TTL:PT1H
BEGIN:VTIMEZONE
TZID:UTC
BEGIN:STANDARD
TZOFFSETFROM:+0000
TZOFFSETTO:+0000
TZNAME:UTC
DTSTART:20200101T000000
END:STANDARD
END:VTIMEZONE
BEGIN:VEVENT
DTSTART;TZID=UTC:20240125T200000
DTEND;TZID=UTC:20240125T220000
DTSTAMP:20260421T131544
CREATED:20230823T055945Z
LAST-MODIFIED:20230823T060136Z
UID:913-1706212800-1706220000@standupbern.ch
SUMMARY:STAND UP BERN - Januar
DESCRIPTION:Satire und allerlei Unfug: Stand Up Bern. Komiker*innen aus Bern\, Newcomer*innen und Gäste präsentieren in Berns kultiger Comedy-Show allerhand Anekdoten\, Geschichten und Erkenntnisse – urkomisch\, schräg und unkonventionell. \nModeration: Jonathan Wegenast\nLine-up: \n\nJonathan Wegenast (Moderation)\nFrank Richter\nMichelle Kalt\nMike Baader\nNico Arn\nRenato Kaiser\nTafi Michel\n\nEinlass und Bar 30 Minuten vor Aufführungsbeginn\nE 20 CHF\, Gönner*in 30 CHF\nVereinsmitglieder von Stand Up Bern 10 CHF\nJunge Erwachsene und Erwachsene
URL:https://standupbern.ch/event/stand-up-bern-januar-2/
LOCATION:Vis a vis (Kunst und Kulturhaus)\, Gerechtigkeitsgasse 44\, Bern\, 3011\, Switzerland
END:VEVENT
BEGIN:VEVENT
DTSTART;TZID=UTC:20231219T200000
DTEND;TZID=UTC:20231219T220000
DTSTAMP:20260421T131544
CREATED:20230823T055822Z
LAST-MODIFIED:20231204T074922Z
UID:911-1703016000-1703023200@standupbern.ch
SUMMARY:STAND UP BERN - Dezember
DESCRIPTION:Stand Up Bern feiert Weihnachten!\nFolgt den Sternen und kommt vorbei zum Comedy Knüller des Jahres!\nZusammen lachen wir uns einen Weihnachtsbaum und sagen Danke für ein weiteres Jahr voller Lachen\, Weinen und alles was das Herz zum pochen bringt. \nKommt vorbei und feiert mit uns ein letztes mal in der Turnhalle\, bevor da alles ändert \nMit: \n\nJohannes Dullin\nRetto Jost\nReena Krishnaraja\nPhilipp Rappo\nMelody Hasler\nPhilipp Brunner\nJonathan Wegenast\n\n  \n-> JETZT TICKET SICHERN
URL:https://standupbern.ch/event/stand-up-bern-dezember-2/
LOCATION:Turnhalle\, Bern\, Switzerland
END:VEVENT
BEGIN:VEVENT
DTSTART;TZID=UTC:20231206T200000
DTEND;TZID=UTC:20231206T220000
DTSTAMP:20260421T131544
CREATED:20231204T075115Z
LAST-MODIFIED:20231204T075115Z
UID:934-1701892800-1701900000@standupbern.ch
SUMMARY:Stand Up Bern - Open Mic
DESCRIPTION:Unser brandneues Open Mic im Wohnzimmer vom Les Amis in Bern.  \nMoritz Schädler\nMilan Milanski\nFabian Rütsche\nLuMic\nReena Krishnaraia\nFabian Wenger \nRetto Jost (Moderation) \n  \nEINTRITT FREI\, KOLLEKTE (Keine Reservation möglich)
URL:https://standupbern.ch/event/stand-up-bern-open-mic-2/
LOCATION:Les Amis\, Rathausgasse 63\, Bern
END:VEVENT
BEGIN:VEVENT
DTSTART;TZID=UTC:20231130T200000
DTEND;TZID=UTC:20231130T220000
DTSTAMP:20260421T131544
CREATED:20230823T055649Z
LAST-MODIFIED:20230823T060154Z
UID:909-1701374400-1701381600@standupbern.ch
SUMMARY:STAND UP BERN - November
DESCRIPTION:Satire und allerlei Unfug: Stand Up Bern. Komiker*innen aus Bern\, Newcomer*innen und Gäste präsentieren in Berns kultiger Comedy-Show allerhand Anekdoten\, Geschichten und Erkenntnisse – urkomisch\, schräg und unkonventionell. \nModeration: Jonathan Wegenast\nLine-up:  \n\nJonathan Wegenast\nJulius Siegenthaler\nMartina Hügi\nMichelle Kalt\nTrixie\nWill Bird\n\nShow: 30. November um 20:00 Uhr\nEinlass und Bar 30 Minuten vor Aufführungsbeginn\nE 20 CHF\, Gönner*in 30 CHF\nVereinsmitglieder von Stand Up Bern 10 CHF\nJunge Erwachsene und Erwachsene
URL:https://standupbern.ch/event/stand-up-bern-november-2/
LOCATION:Vis a vis (Kunst und Kulturhaus)\, Gerechtigkeitsgasse 44\, Bern\, 3011\, Switzerland
END:VEVENT
BEGIN:VEVENT
DTSTART;TZID=UTC:20231101T200000
DTEND;TZID=UTC:20231101T220000
DTSTAMP:20260421T131544
CREATED:20231027T045923Z
LAST-MODIFIED:20231204T075139Z
UID:927-1698868800-1698876000@standupbern.ch
SUMMARY:Stand Up Bern - Open Mic
DESCRIPTION:Unser brandneues Open Mic im Wohnzimmer vom Les Amis in Bern.  \nBenjamin Delahaye\nYaser Balmohammadi\nMelody Hasler\nSladan Eric\nPhilip Brunner\nJan Källin\nPhilipp Rappo \nRetto Jost (Moderation) \n  \nEINTRITT FREI\, KOLLEKTE (Keine Reservation möglich)
URL:https://standupbern.ch/event/stand-up-bern-open-mic/
LOCATION:Les Amis\, Rathausgasse 63\, Bern
END:VEVENT
BEGIN:VEVENT
DTSTART;TZID=UTC:20231026T200000
DTEND;TZID=UTC:20231026T220000
DTSTAMP:20260421T131544
CREATED:20230823T055452Z
LAST-MODIFIED:20230823T055452Z
UID:907-1698350400-1698357600@standupbern.ch
SUMMARY:STAND UP BERN – Oktober
DESCRIPTION:Satire und allerlei Unfug: Stand Up Bern zeigt im VISAVIS seine erste Comedy-Night nach den Sommerferien. Komiker*innen aus Bern\, Newcomer*innen und Gäste präsentieren in Berns kultiger Comedy-Show allerhand Anekdoten\, Geschichten und Erkenntnisse – urkomisch\, schräg und unkonventionell. \nModeration: Jonathan Wegenast\nLine-up:  \n\nJonathan Wegenast\nHosh\nLorenz Rychener\nPhilip Wiederkehr\nReena Krishnaraja\nPatrick Szücs\nFabian Würth\n\nShow: 26. Oktober um 20:00 Uhr\nEinlass und Bar 30 Minuten vor Aufführungsbeginn\nE 20 CHF\, Gönner*in 30 CHF\nVereinsmitglieder von Stand Up Bern 10 CHF\nJunge Erwachsene und Erwachsene
URL:https://standupbern.ch/event/stand-up-bern-oktober-2/
LOCATION:Vis a vis (Kunst und Kulturhaus)\, Gerechtigkeitsgasse 44\, Bern\, 3011\, Switzerland
END:VEVENT
BEGIN:VEVENT
DTSTART;TZID=UTC:20230920T200000
DTEND;TZID=UTC:20230920T220000
DTSTAMP:20260421T131544
CREATED:20230807T075057Z
LAST-MODIFIED:20230807T075057Z
UID:902-1695240000-1695247200@standupbern.ch
SUMMARY:STAND UP BERN - SAISONSTART
DESCRIPTION:Speziell für alle Scherzkekse und Spassvögel gibt’s im September wieder Live-Comedy aus dem Hause Stand Up Bern. Acts aus Bern und aller Welt machen Spass auf hohem Nivau bis tief unter die Gürtellinie. Kein Gemüt bleibt grimmig oder grummelig! Anekdoten\, Witze und Geschichten\, wie sie nur das Leben schreibt. \nPräsentiert von Jonathan Wegenast \nLine Up: \nMike Baader\nFrank Richter\nMyriam Sonanini\nBenjamin Delahaye\nTafi Michel\nUrs Wiedmer\nRetto Jost
URL:https://standupbern.ch/event/stand-up-bern-saisonstart-3/
LOCATION:Bierhübeli\, Neubrückstrasse 43\, Bern\, 3012\, Switzerland
END:VEVENT
BEGIN:VEVENT
DTSTART;TZID=UTC:20230524T080000
DTEND;TZID=UTC:20230524T170000
DTSTAMP:20260421T131544
CREATED:20230109T120020Z
LAST-MODIFIED:20230512T133057Z
UID:883-1684915200-1684947600@standupbern.ch
SUMMARY:STAND UP BERN - Mai (Saisonabschluss)
DESCRIPTION:Willkommen auf der Bühnen für humorbegabte Plaudertaschen. \nStand Up Bern wurde 2014 von Jonathan Wegenast und Julius Siegenthaler ins Leben gerufen. \nMit der Hilfe von William Bird und Dinah Marti wurden\, unter dem Kollektiv-Namen „Bärner Doofjugend“\, monatliche Stand Up Comedy-Events gestartet. \nStand up Bern ist frech\, unterhaltsam und unkonventionell. \nLine-up: \nFabio Landert \nHosh \nEddie Ramirez \nFrank Richter \nMartina Hügi \nReena Krishnaraja \nPhilipp Brunner \nModeration: Jonathan Wegenast \n  \n> TICKETS
URL:https://standupbern.ch/event/stand-up-bern-mai-saisonabschluss/
LOCATION:Bierhübeli\, Neubrückstrasse 43\, Bern\, 3012\, Switzerland
END:VEVENT
BEGIN:VEVENT
DTSTART;TZID=UTC:20230427T200000
DTEND;TZID=UTC:20230427T220000
DTSTAMP:20260421T131544
CREATED:20230109T115752Z
LAST-MODIFIED:20230404T101654Z
UID:881-1682625600-1682632800@standupbern.ch
SUMMARY:STAND UP BERN - April
DESCRIPTION:Line Up: \nJoel von Mutzenbecher \nMichelle Kalt \nPhilipp Wiederkehr \nWill Bird \nJonathan Wegenast \n  \n> Tickets \n  \n 
URL:https://standupbern.ch/event/stand-up-bern-april-2/
LOCATION:Vis a vis (Kunst und Kulturhaus)\, Gerechtigkeitsgasse 44\, Bern\, 3011\, Switzerland
END:VEVENT
BEGIN:VEVENT
DTSTART;TZID=UTC:20230330T200000
DTEND;TZID=UTC:20230330T220000
DTSTAMP:20260421T131544
CREATED:20230109T115509Z
LAST-MODIFIED:20230109T115557Z
UID:879-1680206400-1680213600@standupbern.ch
SUMMARY:STAND UP BERN - März
DESCRIPTION:Herzlich willkommen zur Comedy-Nacht im März! Kommt und lauscht altbekannten und nigelnagelneuen Comedians\, von satirisch bis neurotisch – die Comedy-Mixed-Show Stand Up Bern bietet für alle etwas. Auf der Bühne stehen junge Künstler*innen der Schweizer Comedy- Szene mit einem Faible für Poesie\, das sie gut und gerne an die grosse Glocke hängen. Ein runder Abend\, bei dem einmal mehr deutlich wird\, dass Auftritte auf kleinen Bühnen die grösste Wirkung haben. \nModeration: Jonathan Wegenast \nLine Up: \nJohannes Dullin \nGabirano \nJulius Siegenthaler \nJonathan Wegenast \nPatrick Szücs \nLorenz Rychener \nRetto Jost \nu.m. \n\nEinlass und Bar ab 19:00 Uhr\nFür junge Erwachsene und Erwachsene\nE CHF 15\, Gönner*in CHF 30\nVereinsmitglieder von Stand Up Bern CHF 5
URL:https://standupbern.ch/event/stand-up-bern-maerz-2/
LOCATION:Vis a vis (Kunst und Kulturhaus)\, Gerechtigkeitsgasse 44\, Bern\, 3011\, Switzerland
END:VEVENT
BEGIN:VEVENT
DTSTART;TZID=UTC:20230216T200000
DTEND;TZID=UTC:20230216T220000
DTSTAMP:20260421T131544
CREATED:20230109T115232Z
LAST-MODIFIED:20230109T115534Z
UID:875-1676577600-1676584800@standupbern.ch
SUMMARY:STAND UP BERN – Februar
DESCRIPTION:Klassischer Stand-up und Satire oder einfach nur Blödsinn. Stand Up Bern macht alles. Wirklich alles? Bekannte und neue Künstler*innen der Schweizer Comedy-Szene verdrehen lustvoll und verspielt Worte und Gedanken: eine nahtlose Beweisführung für den Umstand\, dass alles Gute aus Bern kommt. Wirklich? Wirklich! \nModeration: Jonathan Wegenast \nLine Up: \nHosh \nMartina Hügi \nRetto Jost \nFrank Richter \nJonathan Wegenast \nNico Arn \nu.m. \n\nEinlass und Bar ab 19:00 Uhr\nFür junge Erwachsene und Erwachsene\nE CHF 15\, Gönner*in CHF 30\nVereinsmitglieder von Stand Up Bern CHF 5
URL:https://standupbern.ch/event/stand-up-bern-februar-2/
LOCATION:Vis a vis (Kunst und Kulturhaus)\, Gerechtigkeitsgasse 44\, Bern\, 3011\, Switzerland
END:VEVENT
BEGIN:VEVENT
DTSTART;TZID=UTC:20230202T200000
DTEND;TZID=UTC:20230202T220000
DTSTAMP:20260421T131544
CREATED:20230109T120344Z
LAST-MODIFIED:20230109T120357Z
UID:887-1675368000-1675375200@standupbern.ch
SUMMARY:Stand Up Bern präsentiert:  «I gseh ds Problem nid» von Retto Jost
DESCRIPTION:Der Komiker und Optimist Retto Jost\, ein Ziehsohn des Vereins Stand Up Bern\, beendet seine erste Solo-Tour mit einer Dernière im VISAVIS – der Heimspielstätte der Berner Doofjugend. In seinem ersten Soloprogramm «I gseh ds problem nid» geht es um kreative Ansätze für scheinbar unlösbare Probleme oder unnötig aufwändige Lösungen für Situationen\, welche dieser gar nicht bedürfen. Oder anders formuliert: in diesem Programm überwiegt überschwänglicher Optimismus und kreativ subtiler Wahnsinn versus unnötiges\, lösungsorientiertes Denken. \nShow: 02. Februar um 20:00 Uhr\nEinlass und Bar ab 19:00 Uhr\nFür junge Erwachsene und Erwachsene\nS CHF 15\, E CHF 20\, Gönner*in CHF 30\nVereinsmitglieder von STAND UP BERN CHF 10
URL:https://standupbern.ch/event/stand-up-bern-praesentiert-i-gseh-ds-problem-nid-von-retto-jost/
LOCATION:Vis a vis (Kunst und Kulturhaus)\, Gerechtigkeitsgasse 44\, Bern\, 3011\, Switzerland
END:VEVENT
BEGIN:VEVENT
DTSTART;TZID=UTC:20230126T200000
DTEND;TZID=UTC:20230126T220000
DTSTAMP:20260421T131544
CREATED:20230109T115002Z
LAST-MODIFIED:20230109T115311Z
UID:872-1674763200-1674770400@standupbern.ch
SUMMARY:STAND UP BERN – Januar
DESCRIPTION:Wärmt die Herzen und strapaziert das Zwerchfell. Die weltbesten Berner Comedians wirken live im VISAVIS dem Winter entgegen. Stand Up Bern präsentiert ein Programm das sich nicht nur gewaschen\, sondern auch rasiert und geschminkt hat. Schaut vorbei und lacht euch den Winterspeck weg! \nModeration: Jonathan Wegenast \nLine-up:  \nJulius Siegenthaler \nPhilipp Rappo \nNina Wägli \nTafi Michel \nTrixie \nIdo Gershoni \n  \n\nEinlass und Bar ab 19:00 Uhr\nFür junge Erwachsene und Erwachsene\nE CHF 15\, Gönner*in CHF 30\nVereinsmitglieder von Stand Up Bern CHF 5
URL:https://standupbern.ch/event/stand-up-bern-januar/
LOCATION:Vis a vis (Kunst und Kulturhaus)\, Gerechtigkeitsgasse 44\, Bern\, 3011\, Switzerland
END:VEVENT
BEGIN:VEVENT
DTSTART;TZID=UTC:20221221T200000
DTEND;TZID=UTC:20221221T220000
DTSTAMP:20260421T131544
CREATED:20220920T123008Z
LAST-MODIFIED:20220920T123029Z
UID:864-1671652800-1671660000@standupbern.ch
SUMMARY:STAND UP BERN - Dezember
DESCRIPTION:Diesmal mit: \nJonathan Wegenast \nRetto Jost \nFabian Würth \nMichelle Kalt \nNico Arn \nPhilipp Wiederkehr
URL:https://standupbern.ch/event/stand-up-bern-dezember/
LOCATION:Bierhübeli\, Neubrückstrasse 43\, Bern\, 3012\, Switzerland
END:VEVENT
BEGIN:VEVENT
DTSTART;TZID=UTC:20221124T200000
DTEND;TZID=UTC:20221124T220000
DTSTAMP:20260421T131544
CREATED:20220920T122931Z
LAST-MODIFIED:20220920T122931Z
UID:862-1669320000-1669327200@standupbern.ch
SUMMARY:STAND UP BERN - November
DESCRIPTION:Diesmal mit: \nJonathan Wegenast \nAndreas Kronenberg \nFrank Richter \nJohannes Dulin \nMike Baader \nLorenz Rychener
URL:https://standupbern.ch/event/stand-up-bern-november/
LOCATION:Vis a vis (Kunst und Kulturhaus)\, Gerechtigkeitsgasse 44\, Bern\, 3011\, Switzerland
END:VEVENT
BEGIN:VEVENT
DTSTART;TZID=UTC:20221104T200000
DTEND;TZID=UTC:20221104T220000
DTSTAMP:20260421T131544
CREATED:20220921T052833Z
LAST-MODIFIED:20220921T052922Z
UID:866-1667592000-1667599200@standupbern.ch
SUMMARY:Brönnpunkt Nonsense
DESCRIPTION:Die Show\, die es wagt\, die wirklich unwichtigen Fragen des Lebens zu stellen! Mit Jonathan Wegenast und Retto Jost. \nGäste: \nCenk Kormaz und Sven Ivanic
URL:https://standupbern.ch/event/broennpunkt-nonsense/
LOCATION:theater am käfigturm\, Bern
END:VEVENT
BEGIN:VEVENT
DTSTART;TZID=UTC:20221027T200000
DTEND;TZID=UTC:20221027T220000
DTSTAMP:20260421T131544
CREATED:20220920T122632Z
LAST-MODIFIED:20221024T033446Z
UID:858-1666900800-1666908000@standupbern.ch
SUMMARY:STAND UP BERN - Oktober
DESCRIPTION:Übermütig üben sich im Oktober die jungen Talente der Schweizer Comedy-Szene in schwarzem Humor\, erlesener Satire und gnadenloser Wort-Akrobatik. Die beliebten Witz-Virtuosos und Pointen-Maestras von Stand Up Bern setzen ebenso auf Knalleffekte\, wie sie auch den feinen\, hintergründigen und oftmals hinterlistigen Humor pflegen. Und dies zur grossen Freude des Publikums. Selbstverständlich fehlen auch in dieser Ausgabe die Newcomer*innen nicht im Programm. \nModeration: Jonathan Wegenast\nLine-up der Nachwuchs-Comedians:  \nJonathan Wegenast \nRetto Jost \nMichelle Kalt \nTafi Michels \nPhilipp Wiederkehr \nPatrick Szücs \nWill Bird
URL:https://standupbern.ch/event/stand-up-bern-oktober/
LOCATION:Vis a vis (Kunst und Kulturhaus)\, Gerechtigkeitsgasse 44\, Bern\, 3011\, Switzerland
END:VEVENT
BEGIN:VEVENT
DTSTART;TZID=UTC:20220928T200000
DTEND;TZID=UTC:20220928T220000
DTSTAMP:20260421T131544
CREATED:20220920T122325Z
LAST-MODIFIED:20220920T122729Z
UID:856-1664395200-1664402400@standupbern.ch
SUMMARY:STAND UP BERN - Saisonstart
DESCRIPTION:Es geht wieder Los \nStand Up Bern ist zurück aus der Sommerpause!\nNeue Saison\, neue Sets und neue Gesichter. Kommt vorbei zur Saisoneröffnung live im Bierhübeli! \nDiesmal mit: \nJonathan Wegenast \nFrank Richter \nHarry Fücks  \nMike Baader \nPhilipp Rappo \nNina Wägli \nPhilipp Wiederkehr
URL:https://standupbern.ch/event/stand-up-bern-saisonstart-2/
LOCATION:Bierhübeli\, Neubrückstrasse 43\, Bern\, 3012\, Switzerland
END:VEVENT
BEGIN:VEVENT
DTSTART;TZID=UTC:20220526T200000
DTEND;TZID=UTC:20220526T220000
DTSTAMP:20260421T131544
CREATED:20220211T135238Z
LAST-MODIFIED:20220523T095710Z
UID:847-1653595200-1653602400@standupbern.ch
SUMMARY:STAND UP BERN MAI
DESCRIPTION:Saisonfinale von Stand Up Bern! Doch bevor es in die wohlverdiente Sommerpause geht wird noch einmal richtig das Bierhübeli zum beben gebracht. Lacht kaputt was euch kaputt macht und kommt vorbei auf einen Abend Stand Up Comedy der sich gewaschen\,  gewachst und rasiert hat. \n  \nMit: \nJules \nMichelle Kalt \nRetto Jost \nHosh \nEddie Ramierez \nJohannes Dullin \nund  \nJonathan Wegenast \n  \nEintritt: 18.-
URL:https://standupbern.ch/event/stand-up-bern-mai/
LOCATION:Bierhübeli\, Neubrückstrasse 43\, Bern\, 3012\, Switzerland
END:VEVENT
BEGIN:VEVENT
DTSTART;TZID=UTC:20220428T200000
DTEND;TZID=UTC:20220428T220000
DTSTAMP:20260421T131544
CREATED:20220211T135054Z
LAST-MODIFIED:20220425T123307Z
UID:844-1651176000-1651183200@standupbern.ch
SUMMARY:STAND UP BERN APRIL
DESCRIPTION:Neues von Stand Up Bern! Berns beste Comedians und Gaststars präsentieren Gedanken und Geschichten alles im Zeichen der guten Laune. Vorlaut\, lustig oder gar musikalisch untermalt\, es hat für jeden Humor etwas dabei. Freut euch auf einen Abend Comedy der seinesgleichen sucht. \n  \nMit: \nJohannes Dulin \nMike Baader \nNico Arn \nPhilipp Rappo \nund \nJonathan Wegenast \n  \nEintritt: 15.-
URL:https://standupbern.ch/event/stand-up-bern-aril/
LOCATION:Vis a vis (Kunst und Kulturhaus)\, Gerechtigkeitsgasse 44\, Bern\, 3011\, Switzerland
END:VEVENT
BEGIN:VEVENT
DTSTART;TZID=UTC:20220324T200000
DTEND;TZID=UTC:20220324T220000
DTSTAMP:20260421T131544
CREATED:20220211T134433Z
LAST-MODIFIED:20220211T134914Z
UID:836-1648152000-1648159200@standupbern.ch
SUMMARY:STAND UP BERN MÄRZ
DESCRIPTION:Mit Lach und Krach geht’s ab in den Frühling mit Stand Up Bern. Die liebenswert wahnsinnige Comedyshow mit Herz präsentiert einen Abend Jux und Tollerei. \nNewcomer und Könner der Schweizer Comedy Szene erzählen Geschichten und reissen Sprüche bis das Zwerchfell platzt. Für alle die immer gerne viel Lachen und ab und zu denken. \n  \nMit: \nHosh \nFrank Richter \nPhilip Wiederkehr \nPatrick Szücs \nund \nJonathan Wegenast \nTickets \nEintritt: 15.-
URL:https://standupbern.ch/event/stand-up-bern-maerz/
LOCATION:Vis a vis (Kunst und Kulturhaus)\, Gerechtigkeitsgasse 44\, Bern\, 3011\, Switzerland
END:VEVENT
BEGIN:VEVENT
DTSTART;TZID=UTC:20220224T200000
DTEND;TZID=UTC:20220224T220000
DTSTAMP:20260421T131544
CREATED:20220211T134119Z
LAST-MODIFIED:20220211T134739Z
UID:834-1645732800-1645740000@standupbern.ch
SUMMARY:STAND UP BERN FEBRUAR
DESCRIPTION:Nach einer kleinen Pause im Januar geht’s endlich wieder weiter mit Comedy in Bern! hoch kultiviert oder schwer kulturlos\, unsere Comedians lassen kein Auge trocken und keinen Schenkel ungeklopft.\n \nDiesmal mit:\nMichelle Kalt\nJulius Siegenthaler\nMyriam Sonanini\nJan Kälin\nJonathan Wegenast\nSascha Schnellmann\n \nEintritt: 15.-\n\nTickets @ https://eventfrog.ch/…/stand-up-bern-comedy…\nDoors: 19:00\nShow: 20:00
URL:https://standupbern.ch/event/stand-up-bern-februar/
LOCATION:Vis a vis (Kunst und Kulturhaus)\, Gerechtigkeitsgasse 44\, Bern\, 3011\, Switzerland
END:VEVENT
BEGIN:VEVENT
DTSTART;TZID=UTC:20211226T200000
DTEND;TZID=UTC:20211226T220000
DTSTAMP:20260421T131544
CREATED:20210831T071228Z
LAST-MODIFIED:20211224T133016Z
UID:774-1640548800-1640556000@standupbern.ch
SUMMARY:ABGESAGT!!! - Stand Up Bern - Weihnachtsshow CANCELED!!!
DESCRIPTION:Hallo zusammen!\nLeider muss die Weihnachtsshow vom 26.12.2021 abgesagt werden. \nDie Rückerstattung der bereits gekauften Tickets wird auf Bierhübeli.ch stattfinden. \n\nTickets auf Bierhübeli.ch
URL:https://standupbern.ch/event/stand-up-bern-weihnachtsshow/
LOCATION:Bierhübeli\, Neubrückstrasse 43\, Bern\, 3012\, Switzerland
END:VEVENT
BEGIN:VEVENT
DTSTART;TZID=UTC:20211202T200000
DTEND;TZID=UTC:20211202T220000
DTSTAMP:20260421T131544
CREATED:20210831T071140Z
LAST-MODIFIED:20210831T071140Z
UID:772-1638475200-1638482400@standupbern.ch
SUMMARY:Wanderwitz - Open Mic Comedy Show
DESCRIPTION:Willkommen zum Wanderwitz \,der Open-Mic Comedy Show der Superlative präsentiert von und mit den Comedians von Stand Up Bern.\nDenkst du dein Spruch im Einspruch killt die Crowd oder brauchst du einfach mal wieder selber das Zwerchfell trainiert.\nAuf unserer Bühne für Comedians von überall findest du was du suchst\, Unterhaltung wie du sie so noch nirgends sonsts gesehen hast.
URL:https://standupbern.ch/event/wanderwitz-open-mic-comedy-show-3/
LOCATION:Einspruch\, Aarbergergasse 35\, Bern\, Bern\, Switzerland
END:VEVENT
BEGIN:VEVENT
DTSTART;TZID=UTC:20211125T200000
DTEND;TZID=UTC:20211125T220000
DTSTAMP:20260421T131544
CREATED:20210831T071043Z
LAST-MODIFIED:20210831T071043Z
UID:770-1637870400-1637877600@standupbern.ch
SUMMARY:Stand Up Bern
DESCRIPTION:Sie sind wieder da! Stand Up Bern kehrt zurück ins VISAVIS. Die meist lustigen und konstant komischen Newcomer*innen laden ein zur ultimativen\, gnadenlosen Comedy-Show. Und dies nach langem Warten. Mit neuen Acts\, Künstler*innen und Neurosen gehts zusammen in die neue Welt. Ganz profan\, nach dem Motto: mal endlich wieder lachen\, bis die Nähte platzen! Moderation: Jonathan Wegenast. Die Lineups der Nachwuchs-Comedians werden hier veröffentlicht\, sobald sie feststehen. \nShow um 20.00 Uhr\, Einlass und Bar ab 19.00 Uhr\nE CHF 15\, Gönner*in CHF 30\, Vereinsmitglieder von Stand Up Bern CHF 5 \nFür junge Erwachsene und Erwachsene
URL:https://standupbern.ch/event/stand-up-bern-9/
LOCATION:Vis a vis (Kunst und Kulturhaus)\, Gerechtigkeitsgasse 44\, Bern\, 3011\, Switzerland
END:VEVENT
BEGIN:VEVENT
DTSTART;TZID=UTC:20211120T200000
DTEND;TZID=UTC:20211120T220000
DTSTAMP:20260421T131544
CREATED:20210831T070932Z
LAST-MODIFIED:20210831T070932Z
UID:768-1637438400-1637445600@standupbern.ch
SUMMARY:Stand Up Bern presents: Fuck Up mit Jonathan Wegenast
DESCRIPTION:Try Out von Jonathan Wegenast
URL:https://standupbern.ch/event/stand-up-bern-presents-fuck-up-mit-jonathan-wegenast/
LOCATION:Vis a vis (Kunst und Kulturhaus)\, Gerechtigkeitsgasse 44\, Bern\, 3011\, Switzerland
END:VEVENT
BEGIN:VEVENT
DTSTART;TZID=UTC:20211104T200000
DTEND;TZID=UTC:20211104T220000
DTSTAMP:20260421T131544
CREATED:20210831T070720Z
LAST-MODIFIED:20210831T070720Z
UID:766-1636056000-1636063200@standupbern.ch
SUMMARY:Wanderwitz - Open Mic Comedy Show
DESCRIPTION:Willkommen zum Wanderwitz \,der Open-Mic Comedy Show der Superlative präsentiert von und mit den Comedians von Stand Up Bern.\nDenkst du dein Spruch im Einspruch killt die Crowd oder brauchst du einfach mal wieder selber das Zwerchfell trainiert.\nAuf unserer Bühne für Comedians von überall findest du was du suchst\, Unterhaltung wie du sie so noch nirgends sonsts gesehen hast.
URL:https://standupbern.ch/event/wanderwitz-open-mic-comedy-show-2/
LOCATION:Einspruch\, Aarbergergasse 35\, Bern\, Bern\, Switzerland
END:VEVENT
BEGIN:VEVENT
DTSTART;TZID=UTC:20211028T200000
DTEND;TZID=UTC:20211028T220000
DTSTAMP:20260421T131544
CREATED:20210831T070611Z
LAST-MODIFIED:20210831T070611Z
UID:764-1635451200-1635458400@standupbern.ch
SUMMARY:Stand Up Bern
DESCRIPTION:Sie sind wieder da! Stand Up Bern kehrt zurück ins VISAVIS. Die meist lustigen und konstant komischen Newcomer*innen laden ein zur ultimativen\, gnadenlosen Comedy-Show. Und dies nach langem Warten. Mit neuen Acts\, Künstler*innen und Neurosen gehts zusammen in die neue Welt. Ganz profan\, nach dem Motto: mal endlich wieder lachen\, bis die Nähte platzen! Moderation: Jonathan Wegenast. Die Lineups der Nachwuchs-Comedians werden auf www.kultur-visavis.ch veröffentlicht. \nShow um 20.00 Uhr\, Einlass und Bar ab 19.00 Uhr \nE CHF 15\, Gönner*in CHF 30\, Vereinsmitglieder von Stand Up Bern CHF 5 \nFür junge Erwachsene und Erwachsene
URL:https://standupbern.ch/event/stand-up-bern-8/
LOCATION:Vis a vis (Kunst und Kulturhaus)\, Gerechtigkeitsgasse 44\, Bern\, 3011\, Switzerland
END:VEVENT
BEGIN:VEVENT
DTSTART;TZID=UTC:20211007T200000
DTEND;TZID=UTC:20211007T220000
DTSTAMP:20260421T131544
CREATED:20210831T070426Z
LAST-MODIFIED:20211006T110420Z
UID:762-1633636800-1633644000@standupbern.ch
SUMMARY:BERNER JUGENDTREFF PODCAST - LIVE
DESCRIPTION:Der Kult Podcast aus dem Hause Siegenthaler endlich mal vor Live-Publikum
URL:https://standupbern.ch/event/wanderwitz-open-mic-comedy-show/
LOCATION:Einspruch\, Aarbergergasse 35\, Bern\, Bern\, Switzerland
END:VEVENT
BEGIN:VEVENT
DTSTART;TZID=UTC:20210929T200000
DTEND;TZID=UTC:20210929T220000
DTSTAMP:20260421T131544
CREATED:20210831T070242Z
LAST-MODIFIED:20210831T070242Z
UID:760-1632945600-1632952800@standupbern.ch
SUMMARY:Stand Up Bern - Saison Eröffnung
DESCRIPTION:Willkommen auf der Bühnen für humorbegabte Plaudertaschen. \nStand Up Bern wurde 2014 von Jonathan Wegenast und Julius Siegenthaler ins Leben gerufen. \nMit der Hilfe von William Bird und Dinah Marti wurden\, unter dem Kollektiv-Namen „Bärner Doofjugend“\, monatliche Stand Up Comedy-Events gestartet. \nStand up Bern ist frech\, unterhaltsam und unkonventionell. \nLine up:\nTBA
URL:https://standupbern.ch/event/stand-up-bern-saison-eroeffnung/
LOCATION:Bierhübeli\, Neubrückstrasse 43\, Bern\, 3012\, Switzerland
END:VEVENT
END:VCALENDAR