BEGIN:VCALENDAR
VERSION:2.0
PRODID:-//Stand Up Bern - ECPv6.15.20//NONSGML v1.0//EN
CALSCALE:GREGORIAN
METHOD:PUBLISH
X-WR-CALNAME:Stand Up Bern
X-ORIGINAL-URL:https://standupbern.ch
X-WR-CALDESC:Events for Stand Up Bern
REFRESH-INTERVAL;VALUE=DURATION:PT1H
X-Robots-Tag:noindex
X-PUBLISHED-TTL:PT1H
BEGIN:VTIMEZONE
TZID:UTC
BEGIN:STANDARD
TZOFFSETFROM:+0000
TZOFFSETTO:+0000
TZNAME:UTC
DTSTART:20180101T000000
END:STANDARD
END:VTIMEZONE
BEGIN:VEVENT
DTSTART;TZID=UTC:20191121T200000
DTEND;TZID=UTC:20191121T220000
DTSTAMP:20260421T191828
CREATED:20191014T085609Z
LAST-MODIFIED:20191118T070528Z
UID:715-1574366400-1574373600@standupbern.ch
SUMMARY:Stand Up Solothurn
DESCRIPTION:Nach dem erfolgreichen Pilot Event\, macht sich die Berner Doofjugend wieder auf nach Solothurn. Mit Comedians alt und jung und dick und dünn\, rund aus der Schweizer Comedy-Szene. Mit flotten Sprüchen\, Kalauer\, Satire und auch einfach nur Nonsene. Wir haben für alle etwas.\nKommt vorbei und lacht euch scheckig\, Krumm oder auch nur einen Ast.\nWir freuen uns! \nLine up: \nJonathan Wegenast\nHosh\nFabian Würth\nRetto Jost\nAndreas Kronenberg (Newcomer) \n 
URL:https://standupbern.ch/event/stand-up-solothurn/
LOCATION:Solheure\, Solothurn\, Switzerland
END:VEVENT
BEGIN:VEVENT
DTSTART;TZID=UTC:20191017T200000
DTEND;TZID=UTC:20191017T220000
DTSTAMP:20260421T191828
CREATED:20190815T092855Z
LAST-MODIFIED:20190815T094900Z
UID:665-1571342400-1571349600@standupbern.ch
SUMMARY:Stand-Up Bern | Oktober
DESCRIPTION:Willkommen auf der Bühnen für humorbegabte Plaudertaschen. \nStand Up Bern wurde 2014 von Jonathan Wegenast und Julius Siegenthaler ins Leben gerufen. Mit der Hilfe von William Bird und Dinah Marti wurden\, unter dem Kollektiv-Namen „Bärner Doofjugend“\, monatliche Stand Up Comedy-Events gestartet.\nStand up Bern ist frech\, unterhaltsam und unkonventionell. \nLine up*: \nRetto Jost \nFabio Landert \nFrank Richter \nJohannes Dullin \nPhilip Brunner \nPhilipp Rappo \nModeration: Jonathan Wegenast \n*Änderungen vorbehalten
URL:https://standupbern.ch/event/stand-up-bern/
LOCATION:Vis a vis (Kunst und Kulturhaus)\, Gerechtigkeitsgasse 44\, Bern\, 3011\, Switzerland
END:VEVENT
BEGIN:VEVENT
DTSTART;TZID=UTC:20190926T200000
DTEND;TZID=UTC:20190926T220000
DTSTAMP:20260421T191828
CREATED:20190815T090734Z
LAST-MODIFIED:20190919T090109Z
UID:661-1569528000-1569535200@standupbern.ch
SUMMARY:Stand-Up Bern | Saisonstart
DESCRIPTION:Willkommen auf der Bühnen für humorbegabte Plaudertaschen. \nStand Up Bern wurde 2014 von Jonathan Wegenast und Julius Siegenthaler ins Leben gerufen. Mit der Hilfe von William Bird und Dinah Marti wurden\, unter dem Kollektiv-Namen „Bärner Doofjugend“\, monatliche Stand Up Comedy-Events gestartet.\nStand up Bern ist frech\, unterhaltsam und unkonventionell. \nLine up*: \nJonathan Wegenast \nJules Siegenthaler \nRetto \nMartina Hügi \nTimur Turga \nPatrick Szücs \nModeration: Jonathan Wegenast \n*Änderungen vorbehalten
URL:https://standupbern.ch/event/stand-up-bern-saisonstart/
LOCATION:Bierhübeli\, Neubrückstrasse 43\, Bern\, 3012\, Switzerland
END:VEVENT
END:VCALENDAR